BEGIN:VCALENDAR
VERSION:2.0
PRODID:-//eventon.com NONSGML v1.0//EN
CALSCALE:GREGORIAN
METHOD:PUBLISH
BEGIN:VEVENT
UID:69ecbe53c7d28
DTSTAMP:20260425T131459Z
DTSTART:20260517T130000Z
DTEND:20260517T150000Z
LOCATION:Bürgerhaus Bierden Auf dem Brink 3\,  28832 Achim
SUMMARY:Achim/Bremen – Spieletreff
DESCRIPTION:Ab in die Lüfte! Nachdem wir das letzte Mal Murmelbahnen gebau
 t haben\,  wollen wir dieses Mal nicht nach unten rollen\,  sondern nach ob
 en fliegen. Wir bauen Papierflieger und machen einen Wettbewerb! Gesucht is
 t der schönste Flieger\,  der Coolste\,  der Schnellste\,  der Flieger\,  
 der den besten Looping fliegt\,  der Verrückteste oder[..]\nhttps://www.dg
 hk-nds-hb.de/veranstaltungen/achim-bremen-spieletreff/
URL:https://www.dghk-nds-hb.de/veranstaltungen/achim-bremen-spieletreff/
END:VEVENT
END:VCALENDAR