BEGIN:VCALENDAR
VERSION:2.0
PRODID:-//eventon.com NONSGML v1.0//EN
CALSCALE:GREGORIAN
METHOD:PUBLISH
BEGIN:VEVENT
UID:69e8a69223bb1
DTSTAMP:20260422T104434Z
DTSTART:20260719T110000Z
DTEND:20260719T150000Z
LOCATION:Trick47 Beim Handelsmuseum 7–9\,  28195 Bremen
SUMMARY:Bremen – Film ab! Stop-Motion in Bremen
DESCRIPTION:Hast Du Lust\,  die Gesetze der Physik außer Kraft zu setzen u
 nd Deine eigenen Figuren zum Leben zu erwecken? In unserem Workshop wirst D
 u vom Zuschauer zum Regisseur! Unter erfahrener Anleitung lernst Du\,  wie 
 Du aus Deinen eigenen Ideen mit der Stop-Motion-Technik beeindruckende Film
 sequenzen zauberst. Das Equipment stellen wir\,  die[..]\nhttps://www.dghk-
 nds-hb.de/veranstaltungen/stop-motion-in-bremen/
URL:https://www.dghk-nds-hb.de/veranstaltungen/stop-motion-in-bremen/
END:VEVENT
END:VCALENDAR