BEGIN:VCALENDAR
VERSION:2.0
PRODID:-//eventon.com NONSGML v1.0//EN
CALSCALE:GREGORIAN
METHOD:PUBLISH
BEGIN:VEVENT
UID:69e6932d3ba73
DTSTAMP:20260420T205717Z
DTSTART:20260606T123000Z
DTEND:20260606T153000Z
LOCATION:Kletterpark Verden Saumurplatz 2\,  27283 Verden
SUMMARY:Verden – Kletterspaß im Verdener Kletterpark
DESCRIPTION:Am Samstag\,  den 6. Juni 2026\,  wollen wir gemeinsam klettern
  gehen.   Um 14.30 Uhr bekommen wir eine Einweisung und können dann bi
 s zu drei Stunden die Trails erkunden. Der Kletterpark Verden ist mit drei 
 niedrigen Trails auch gut für Anfänger geeignet\,  für die geübten Klet
 terer geht es bis zu 10[..]\nhttps://www.dghk-nds-hb.de/veranstaltungen/ver
 den-kletterspass-im-verdener-kletterpark/
URL:https://www.dghk-nds-hb.de/veranstaltungen/verden-kletterspass-im-verdener-kletterpark/
END:VEVENT
END:VCALENDAR