BEGIN:VCALENDAR
VERSION:2.0
PRODID:-//eventon.com NONSGML v1.0//EN
CALSCALE:GREGORIAN
METHOD:PUBLISH
BEGIN:VEVENT
UID:69e736d4e16f3
DTSTAMP:20260421T083532Z
DTSTART:20260314T130000Z
DTEND:20260314T160000Z
LOCATION:AWO-Sozialzentrum Bäringer Str. 24–25\,  38640 Goslar
SUMMARY:Goslar – Spiele-Zeit für Teenager (13–19 Jahre)
DESCRIPTION:Be together – meet – speak &amp; playfür Teenager 13–19 
 Jahrenmit Josi (Studentin und langjähriges Gruppenmitglied) Werwolf – Mu
 nchkin – Bang und Co.Quatschen &amp; Lachen Wir treffen uns zu einer lust
 igen\,  spannenden\,  kniffligenund vor allem geselligen Spiele-Zeit mit Au
 stausch in der AWO! Komm und sei dabei!Nutze diese besondere Gelegenheit\, 
 damit Neues[..]\nhttps://www.dghk-nds-hb.de/veranstaltungen/goslar-spieleze
 it-teenager/
URL:https://www.dghk-nds-hb.de/veranstaltungen/goslar-spielezeit-teenager/
END:VEVENT
END:VCALENDAR