BEGIN:VCALENDAR
VERSION:2.0
PRODID:-//eventon.com NONSGML v1.0//EN
CALSCALE:GREGORIAN
METHOD:PUBLISH
BEGIN:VEVENT
UID:69e8960f8959d
DTSTAMP:20260422T093407Z
DTSTART:20250519T180000Z
DTEND:20250519T200000Z
LOCATION:Nachbarschaftstreff „Das grüne Sofa“ Brunnenweg 68\,  27283 Verden
SUMMARY:Verden – Gesprächsabend (Zusatztermin)
DESCRIPTION:Der Elterngesprächsabend findet eigentlich an jedem 1. Diensta
 g im Monat um 20 Uhr im Netzwerk Selbsthilfe (Faulenstraße 31\,  28195 Bre
 men\,  1. Stock\,  Raum 3) statt.Im Mai gibt es aber aufgrund der großen N
 achfrage aus dem Raum Verden einen zusätzlichen Termin: MONTAG\,  19. Mai 
 2025\,  20.00 Uhr\,  findet unser Gesprächs- und[..]\nhttps://www.dghk-nds
 -hb.de/veranstaltungen/bremen-gespraechsabend-sondertermin/
URL:https://www.dghk-nds-hb.de/veranstaltungen/bremen-gespraechsabend-sondertermin/
END:VEVENT
END:VCALENDAR