BEGIN:VCALENDAR
VERSION:2.0
PRODID:-//eventon.com NONSGML v1.0//EN
CALSCALE:GREGORIAN
METHOD:PUBLISH
BEGIN:VEVENT
UID:69e736bab7f0a
DTSTAMP:20260421T083506Z
DTSTART:20250218T143000Z
DTEND:20250218T160000Z
LOCATION:Zukunftswerkstatt Buchholz Sprötzer Weg 33f\,  21244 Buchholz
SUMMARY:Buchholz - Entdeckerzeit
DESCRIPTION:In Kooperation mit der Zukunftswerkstatt Buchholz Den ganzen Ta
 g wirken verschiedenste Kräfte auf unseren Körper und wir nutzen sie\,  u
 m die Welt in Bewegung zu setzen. Sehen können wir diese Kräfte meist nic
 ht\,  manchmal spüren wir sie\,  manchmal sehen wir ihre Wirkung. An drei 
 Terminen können Kinder im Vorschulalter und[..]\nhttps://www.dghk-nds-hb.d
 e/veranstaltungen/buchholz-entdeckerzeit/
URL:https://www.dghk-nds-hb.de/veranstaltungen/buchholz-entdeckerzeit/
END:VEVENT
END:VCALENDAR