BEGIN:VCALENDAR
VERSION:2.0
PRODID:-//eventon.com NONSGML v1.0//EN
CALSCALE:GREGORIAN
METHOD:PUBLISH
BEGIN:VEVENT
UID:69e8a5ddef50b
DTSTAMP:20260422T104133Z
DTSTART:20260625T180000Z
DTEND:20260625T200000Z
LOCATION:kath. Bildungswerk Friesoythe Kirchstraße 9\,  26169 Friesoythe
SUMMARY:Friesoythe – Gesprächsabend
DESCRIPTION:Der Gesprächskreis Friesoythe trifft sich immer am dritten Don
 nerstag (außerhalb der Ferien und Feiertage) eines Monats von 20.00 bis 22
 .00 Uhr „Kath. Bildungswerk Friesoythe“\,  Kirchstraße 9\,  26169 Frie
 soythe. Wir bitten um Anmeldung&nbsp;bis 2 Tage vorher unter: E-Mail: frie
 soythe(at)dghk-nds-hb.de Ihre DGhK-Ansprechperson ist:&nbsp;Marius Herold W
 ir freuen uns auf Sie!\nhttps://www.dghk-nds-hb.de/veranstaltungen/friesoyt
 he-gespraechsabend/var/ri-4.l-L1
URL:https://www.dghk-nds-hb.de/veranstaltungen/friesoythe-gespraechsabend/var/ri-4.l-L1
END:VEVENT
END:VCALENDAR