BEGIN:VCALENDAR
VERSION:2.0
PRODID:-//eventon.com NONSGML v1.0//EN
CALSCALE:GREGORIAN
METHOD:PUBLISH
BEGIN:VEVENT
UID:69e737047169b
DTSTAMP:20260421T083620Z
DTSTART:20240921T100000Z
DTEND:20240921T140000Z
LOCATION:Kletterpark Verden Saumurplatz 2\,  27283 Verden
SUMMARY:Verden - Kletterspaß im Verdener Kletterpark
DESCRIPTION:Am Samstag\,  den 21. September 2024 wollen wir gemeinsam klett
 ern gehen! Dafür treffen wir uns um 12.00 Uhr im Kletterpark Verden und wo
 llen uns zuerst bei einem leckeren Picknick stärken. Bitte bringt etwas zu
  Essen und zu Trinken für das gemeinsame Picknick (vorgeschnitten/portioni
 ert in Behältern) mit! Geschirr\,  Teller und Becher[..]\nhttps://www.dghk
 -nds-hb.de/veranstaltungen/verden-kletterpark/
URL:https://www.dghk-nds-hb.de/veranstaltungen/verden-kletterpark/
END:VEVENT
END:VCALENDAR