BEGIN:VCALENDAR
VERSION:2.0
PRODID:-//eventon.com NONSGML v1.0//EN
CALSCALE:GREGORIAN
METHOD:PUBLISH
BEGIN:VEVENT
UID:69e73ca39e43f
DTSTAMP:20260421T090019Z
DTSTART:20240928T080000Z
DTEND:20240928T110000Z
LOCATION:Mühlenmuseum Moisburg Auf dem Damm 10\,  21647 Moisburg
SUMMARY:Buchholz - Vom Korn zum Brot
DESCRIPTION:DDie Kinder werden in diesem praktischen Kurs zum Anfassen und 
 Mitmachen mitgenommen auf eine Reise in die Vergangenheit. In der historisc
 hen Wassermühle von Moisburg lernen sie verschiedene Getreidearten kennen 
 und erfahren\,  wie Mehl hergestellt wird. Anschließend wird das selbst ge
 mahlene Mehl zu Brötchen verarbeitet. Natürlich dürfen die leckeren Brö
 tchen nach[..]\nhttps://www.dghk-nds-hb.de/veranstaltungen/buchholz-vom-kor
 n-zum-brot/
URL:https://www.dghk-nds-hb.de/veranstaltungen/buchholz-vom-korn-zum-brot/
END:VEVENT
END:VCALENDAR