BEGIN:VCALENDAR
VERSION:2.0
PRODID:-//eventon.com NONSGML v1.0//EN
CALSCALE:GREGORIAN
METHOD:PUBLISH
BEGIN:VEVENT
UID:69e736af90d7d
DTSTAMP:20260421T083455Z
DTSTART:20240301T170000Z
DTEND:20240303T130000Z
LOCATION:Tagungsstätte Lutherheim Jägerallee 38\,  31832 Springe
SUMMARY:Springe - Aktiventreffen (intern)
DESCRIPTION:Hiermit möchten wir Euch herzlich zum Aktiventreffen nach Spri
 nge einladen. Wir würden uns freuen\,  unsere neuen aber und auch unsere l
 angjährigen Aktiven zu sehen\,  die die letzten Male nicht dabei sein konn
 ten.Wir beginnen wie immer am Freitag\,  den 1. März 2024 um 18:00 Uhr mit
  dem Abendessen und enden am[..]\nhttps://www.dghk-nds-hb.de/veranstaltunge
 n/springe-aktiventreffen-intern/
URL:https://www.dghk-nds-hb.de/veranstaltungen/springe-aktiventreffen-intern/
END:VEVENT
END:VCALENDAR