BEGIN:VCALENDAR
VERSION:2.0
PRODID:-//eventon.com NONSGML v1.0//EN
CALSCALE:GREGORIAN
METHOD:PUBLISH
BEGIN:VEVENT
UID:69e6164b117a4
DTSTAMP:20260420T120427Z
DTSTART:20230916T090000Z
DTEND:20230916T140000Z
LOCATION:Dikju – Digital Creative Lab Richthofenstr. 29\,  31137 Hildesheim
SUMMARY:Hildesheim - Stop-Motion-Animationsfilme (ausgebucht)
DESCRIPTION:Du wolltest schon immer deine Legofiguren zum Leben erwecken? D
 eine Playmobilfiguren sollen endlich ihre eigene Geschichte erzählen? In d
 iesem Workshop zeigen wir dir\,  wie ein Stop-Motion-Animationsfilm gemacht
  wird. Gemeinsam produzieren wir deinen ersten Film. Falls du kein Anfänge
 r mehr bist\,  lernst du etwas über Bildgestaltung und Storytelling. Zielg
 ruppe: für Einsteiger[..]\nhttps://www.dghk-nds-hb.de/veranstaltungen/hild
 esheim-mint-23-09/
URL:https://www.dghk-nds-hb.de/veranstaltungen/hildesheim-mint-23-09/
END:VEVENT
END:VCALENDAR